BEGIN:VCALENDAR
VERSION:2.0
PRODID:-//aha | Design und Illustration | Angela Holzmann - ECPv6.15.18//NONSGML v1.0//EN
CALSCALE:GREGORIAN
METHOD:PUBLISH
X-ORIGINAL-URL:https://aha-illu.de
X-WR-CALDESC:Veranstaltungen für aha | Design und Illustration | Angela Holzmann
REFRESH-INTERVAL;VALUE=DURATION:PT1H
X-Robots-Tag:noindex
X-PUBLISHED-TTL:PT1H
BEGIN:VTIMEZONE
TZID:Europe/Berlin
BEGIN:DAYLIGHT
TZOFFSETFROM:+0100
TZOFFSETTO:+0200
TZNAME:CEST
DTSTART:20250330T010000
END:DAYLIGHT
BEGIN:STANDARD
TZOFFSETFROM:+0200
TZOFFSETTO:+0100
TZNAME:CET
DTSTART:20251026T010000
END:STANDARD
BEGIN:DAYLIGHT
TZOFFSETFROM:+0100
TZOFFSETTO:+0200
TZNAME:CEST
DTSTART:20260329T010000
END:DAYLIGHT
BEGIN:STANDARD
TZOFFSETFROM:+0200
TZOFFSETTO:+0100
TZNAME:CET
DTSTART:20261025T010000
END:STANDARD
BEGIN:DAYLIGHT
TZOFFSETFROM:+0100
TZOFFSETTO:+0200
TZNAME:CEST
DTSTART:20270328T010000
END:DAYLIGHT
BEGIN:STANDARD
TZOFFSETFROM:+0200
TZOFFSETTO:+0100
TZNAME:CET
DTSTART:20271031T010000
END:STANDARD
END:VTIMEZONE
BEGIN:VEVENT
DTSTART;TZID=Europe/Berlin:20260520T170000
DTEND;TZID=Europe/Berlin:20260520T180000
DTSTAMP:20260420T042732
CREATED:20260305T162127Z
LAST-MODIFIED:20260306T155859Z
UID:20566-1779296400-1779300000@aha-illu.de
SUMMARY:Buchvorstellung / Lesung: Mein TrauerWegBuch
DESCRIPTION:Seminar für mehrsprachige Helferinnen und Helfer\nAngela Holzmann stellt ihre Neuerscheinung „Mein Trauer Weg Buch\, Trauernotizen für L(i)ebende“ in Form einer kleinen Ausstellung und Lesung mit anschließenden Interviewfragen vor. Sie erhalten einen Einblick in die 230 Seiten mit eindrucksvollen bewegenden Fotos\, Transparentseiten\, kleinen Illustrationen und Texten. Ihre Texte greifen die zahlreichen Themen und Aspekte auf\, die uns in der Trauer beschäftigen. \nDieses Buch regt an zum Schreiben\, Zeichnen\, kreativen Arbeiten\, Überlegen und Verändern von Dingen\, die nicht passen … Ein einfühlsames Geschenkbuch für all diejenigen\, die sich in Beruf oder Ehrenamt mit den Bedürfnissen von Trauernden befassen oder selbst den Verlust eines geliebten Menschen betrauern. \nIn Kooperation mit dem Seminar für ehrenamtliche Dienste.\nOrt: Lena-Christ-Haus\, Landshuter Allee 38b\, 80637 München\nTermin: Mittwoch\, 20.5.2026 von 17 – 18 Uhr\nReferentin: Angela Holzmann\nKosten: kostenfrei\nAnmeldung bis 13.5.2026 erwünscht: seminar-mehrsprachig@diakonie-muc-obb.de
URL:https://aha-illu.de/event/buchvorstellung-lesung-mein-trauerwegbuch/
LOCATION:Lena-Christ-Haus\, Landshuter Allee 38b\, München\, 80637\, Germany
CATEGORIES:Lesungen
ATTACH;FMTTYPE=image/jpeg:https://aha-illu.de/wp-content/uploads/2026/01/buchvorstellung.jpg
END:VEVENT
BEGIN:VEVENT
DTSTART;TZID=Europe/Berlin:20261008T090000
DTEND;TZID=Europe/Berlin:20261108T180000
DTSTAMP:20260420T042732
CREATED:20260320T175241Z
LAST-MODIFIED:20260320T185501Z
UID:20829-1791450000-1794160800@aha-illu.de
SUMMARY:Ausstellung im KKV Hansahaus München
DESCRIPTION:Drei Künstlerinnen öffnen mit ihrer gemeinsamen Ausstellung „Leben“ am 08. Oktober 2026 um 18:00 Uhr im Hansa Haus\, Brümmer Str. 39\, 80333 München\, einen faszinierenden Raum voller künstlerischer Tiefe und Ausdruckskraft. Großformatige Acrylmalereien\, durchzogen von Collageelementen\, treffen auf feinfühlige\, humorvolle Illustrationen und eindrucksvolle Glasporträts\, die in ihrer Vielschichtigkeit Geschichten von Vergänglichkeit\, Emotion und Erinnerung erzählen. Im Zentrum steht die Buchvorstellung „Mein Trauer Weg Buch\, Trauernotizen“\, das Trauer und Verlust auf eine ganz neue\, poetische Weise sichtbar macht. Zur Langen Nacht der Museen am Samstag\, den 18. Oktober 2026\, finden im Hansa Haus um 19:00 Uhr und 22:00 Uhr Lesungen zum Buch statt\, die tiefere Einblicke in die Entstehung der Werke und die Gedankenwelt der Künstlerinnen gewähren. Lassen Sie sich von vielschichtiger Kunst berühren und inspirieren – wir freuen uns auf Ihren Besuch und einen Abend voller intensiver Begegnungen.
URL:https://aha-illu.de/event/austellung-im-hansahaus-muenchen/
CATEGORIES:Ausstellungen
END:VEVENT
BEGIN:VEVENT
DTSTART;TZID=Europe/Berlin:20261017T180000
DTEND;TZID=Europe/Berlin:20261018T130000
DTSTAMP:20260420T042732
CREATED:20260320T183916Z
LAST-MODIFIED:20260320T185946Z
UID:20835-1792260000-1792328400@aha-illu.de
SUMMARY:Ausstellung im KKV Hansahaus zur »Langen Nacht der Münchner Museen«
DESCRIPTION:Erstmalig öffnet das KKV Hansahaus\, schräg gegenüber vom Lenbachhaus\, seine Pforten für die Gemeinschaftsausstellung „Leben“. Gezeigt werden Werke von drei Künstlerinnen\, die sich auf vielfältige Weise mit dem Thema Leben auseinandersetzen. \nDas Spektrum der ausgestellten Arbeiten reicht von Malerei und Fotografie über Illustration und Collage bis hin zu eindrucksvollen Glasporträts die im Garten des Hansahauses zu sehen sind und erweitert die Ausstellung um einen besonderen Außenraum. \n  \n 
URL:https://aha-illu.de/event/ausstellung-im-hansahaus-zur-langen-nacht-der-muenchner-museen/
CATEGORIES:Ausstellungen
END:VEVENT
BEGIN:VEVENT
DTSTART;TZID=Europe/Berlin:20261203T110000
DTEND;TZID=Europe/Berlin:20261206T200000
DTSTAMP:20260420T042732
CREATED:20260306T100641Z
LAST-MODIFIED:20260322T204236Z
UID:20593-1796295600-1796587200@aha-illu.de
SUMMARY:Blutenburger Weihnachtsmarkt 2026
DESCRIPTION:Ihr findet mich wie jedes Jahr im 1. OG im Eck mit meinen humorvollen Post- und Grußkarten\, Geschenkartikeln\, Büchern und Kerzen.\nKommt gerne vorbei\, stöbert ein bisschen und entdeckt vielleicht das eine oder andere besondere Geschenk. Ich freue mich auf euch! \n  \nVerein der Freunde Schloss Blutenburg e.V. \nSchloss Blutenburg\nSeldweg 15\n81247 München
URL:https://aha-illu.de/event/blutenburger-weihnachtsmarkt-2026/
CATEGORIES:Ausstellungen,Märkte
ATTACH;FMTTYPE=image/jpeg:https://aha-illu.de/wp-content/uploads/2024/01/Kurs-Blutenburg-Angela-Holzmann-c.jpg
END:VEVENT
END:VCALENDAR